BEGIN:VCALENDAR
VERSION:2.0
PRODID:-// - ECPv6.15.16//NONSGML v1.0//EN
CALSCALE:GREGORIAN
METHOD:PUBLISH
X-ORIGINAL-URL:https://piieuae.org
X-WR-CALDESC:Events for 
REFRESH-INTERVAL;VALUE=DURATION:PT1H
X-Robots-Tag:noindex
X-PUBLISHED-TTL:PT1H
BEGIN:VTIMEZONE
TZID:Asia/Dubai
BEGIN:STANDARD
TZOFFSETFROM:+0400
TZOFFSETTO:+0400
TZNAME:+04
DTSTART:20250101T000000
END:STANDARD
END:VTIMEZONE
BEGIN:VTIMEZONE
TZID:Indian/Mauritius
BEGIN:STANDARD
TZOFFSETFROM:+0400
TZOFFSETTO:+0400
TZNAME:+04
DTSTART:20250101T000000
END:STANDARD
END:VTIMEZONE
BEGIN:VEVENT
DTSTART;TZID=Asia/Dubai:20260314T140000
DTEND;TZID=Asia/Dubai:20260314T180000
DTSTAMP:20260420T164101
CREATED:20260207T115818Z
LAST-MODIFIED:20260225T135700Z
UID:3185-1773496800-1773511200@piieuae.org
SUMMARY:The First Anniversary of the Philippine Institute of Industrial Engineers – UAE Chapter (TBA)
DESCRIPTION:Join us as we celebrate a meaningful milestone the PIIE-UAE Chapter Anniversary\nOver the past year\, our community of industrial engineering professionals has grown stronger through collaboration\, knowledge sharing and a shared commitment to excellence. This anniversary is not just a celebration of time passed\, but of the partnerships built\, milestones achieved and the exciting journey ahead. \nWe warmly invite members\, fellow professionals\, partners and friends to be part of this special occasion. \nExpect an afternoon of:• Inspiring messages and chapter highlights• Networking with IE professionals across the UAE• Recognition of key contributors• Fellowship\, food and celebration \nLet’s come together to commemorate one year of impact and look forward to many more years of advancing the industrial engineering profession in the UAE. \nWe look forward to celebrating with you! \n \nPIIE-UAE Chapter Anniversary RSVP FormPlease enable JavaScript in your browser to complete this form.Name *FirstLastEmail *Will you be attending?YesNo		\n			additional Name guests\n			\n		\n		How many additional guests are you bringing?None\, just me.+1+2+3 or moreAny comments or questions?Submit
URL:https://piieuae.org/event/philippine-institute-of-industrial-engineer-piie-anniversary/
LOCATION:JTI Events (Celebrating Life)\, 36A St. Port Saeed 784G+6G Deira\, Dubai\, United Arab Emirates
END:VEVENT
BEGIN:VEVENT
DTSTART;TZID=Indian/Mauritius:20260221T090000
DTEND;TZID=Indian/Mauritius:20260221T160000
DTSTAMP:20260420T164101
CREATED:20260208T093608Z
LAST-MODIFIED:20260214T054948Z
UID:3903-1771664400-1771689600@piieuae.org
SUMMARY:Practical UI/UX & Website Development and Deployment for Everyone
DESCRIPTION:
URL:https://piieuae.org/event/practical-ui-ux-website-development-and-deployment-for-everyone/
LOCATION:Philippine Consulate General in Dubai\, 851 Beirut Street Al Twar 4\, Dubai\, United Arab Emirates
END:VEVENT
END:VCALENDAR